BEGIN:VCALENDAR
VERSION:2.0
PRODID:-//Fly Pittsburgh - ECPv6.15.20//NONSGML v1.0//EN
CALSCALE:GREGORIAN
METHOD:PUBLISH
X-WR-CALNAME:Fly Pittsburgh
X-ORIGINAL-URL:https://flypittsburgh.com
X-WR-CALDESC:Events for Fly Pittsburgh
REFRESH-INTERVAL;VALUE=DURATION:PT1H
X-Robots-Tag:noindex
X-PUBLISHED-TTL:PT1H
BEGIN:VTIMEZONE
TZID:America/New_York
BEGIN:DAYLIGHT
TZOFFSETFROM:-0500
TZOFFSETTO:-0400
TZNAME:EDT
DTSTART:20250309T070000
END:DAYLIGHT
BEGIN:STANDARD
TZOFFSETFROM:-0400
TZOFFSETTO:-0500
TZNAME:EST
DTSTART:20251102T060000
END:STANDARD
BEGIN:DAYLIGHT
TZOFFSETFROM:-0500
TZOFFSETTO:-0400
TZNAME:EDT
DTSTART:20260308T070000
END:DAYLIGHT
BEGIN:STANDARD
TZOFFSETFROM:-0400
TZOFFSETTO:-0500
TZNAME:EST
DTSTART:20261101T060000
END:STANDARD
BEGIN:DAYLIGHT
TZOFFSETFROM:-0500
TZOFFSETTO:-0400
TZNAME:EDT
DTSTART:20270314T070000
END:DAYLIGHT
BEGIN:STANDARD
TZOFFSETFROM:-0400
TZOFFSETTO:-0500
TZNAME:EST
DTSTART:20271107T060000
END:STANDARD
END:VTIMEZONE
BEGIN:VEVENT
DTSTART;TZID=America/New_York:20260219T100000
DTEND;TZID=America/New_York:20260219T120000
DTSTAMP:20260422T120257
CREATED:20260108T182649Z
LAST-MODIFIED:20260108T183824Z
UID:108638-1771495200-1771502400@flypittsburgh.com
SUMMARY:Dr. Helga Scheibert
DESCRIPTION:Dr. Helga Scheibert began her musical training at the High School of Arts in Targu Mures\, Transylvania at age 7. She has experience performing with orchestras both as a soloist and collaborator. She has performed several solo and chamber recitals in the U.S. and in Europe and had performances broadcast on Romanian National Radio\, West Virginia Public Radio. She is the winner of numerous piano auditions and competitions including Duquesne University Concerto Competition\, Intersection of Classical and Jazz Piano Competition\, Pittsburgh Concert Society. \nShe holds a Bachelor in Piano Performance from Gheorghe Dima Music Academy (Romania)\, Artist Diploma and Masters from Duquesne University (Pittsburgh) and a Doctorate in Piano Performance from West Virginia University (Morgantown). \nCurrently she serves as faculty at Carnegie Mellon Preparatory School\, and she is accompanist at Duquesne University in Pittsburgh. She enjoys composing\, improvising\, and experimenting with classical\, jazz\, folk\, and modern music.
URL:https://flypittsburgh.com/event/dr-helga-scheibert-piano-2/
LOCATION:PIT Piano
CATEGORIES:Music,Performance
ATTACH;FMTTYPE=image/jpeg:https://flypittsburgh.com/wp-content/uploads/2023/05/Helga-Scheibert_2_PGHInternationalAirport_4.jpg
END:VEVENT
BEGIN:VEVENT
DTSTART;TZID=America/New_York:20260219T150000
DTEND;TZID=America/New_York:20260219T170000
DTSTAMP:20260422T120257
CREATED:20260108T175426Z
LAST-MODIFIED:20260108T175426Z
UID:108616-1771513200-1771520400@flypittsburgh.com
SUMMARY:Geña y Peña
DESCRIPTION:Geña y Peña play Latin American songs of love and life\, music that will take you to Latin America and the Caribbean. This sublime duet is comprised of Puerto Rico-born Geña on vocals and percussion\, and Colombian-American Carlos Peña on guitar. Since 2007\, they have been playing boleros\, montunos\, bombas\, plenas and soul. Their sound captures the sweet and clear\, the romantic and sultry\, the beautiful and lively songs of yesterday.
URL:https://flypittsburgh.com/event/gena-y-pena-2/
LOCATION:PIT Stage
CATEGORIES:Music,Performance
ATTACH;FMTTYPE=image/jpeg:https://flypittsburgh.com/wp-content/uploads/2025/06/Gena-Y-Pena_2025.jpeg
END:VEVENT
BEGIN:VEVENT
DTSTART;TZID=America/New_York:20260219T150000
DTEND;TZID=America/New_York:20260219T170000
DTSTAMP:20260422T120257
CREATED:20260108T181732Z
LAST-MODIFIED:20260218T173056Z
UID:108630-1771513200-1771520400@flypittsburgh.com
SUMMARY:Kenny Peagler
DESCRIPTION:Kenny Peagler is a versatile musician from Pittsburgh\, Pennsylvania\, known for his skills as a pianist\, composer\, singer-songwriter\, and arranger. His musical journey began with classical piano training before he discovered jazz in high school\, where he also explored R&B and soul.
URL:https://flypittsburgh.com/event/kenny-peagler-piano-2/
LOCATION:PIT Piano
CATEGORIES:Music,Performance
ATTACH;FMTTYPE=image/jpeg:https://flypittsburgh.com/wp-content/uploads/2025/09/mid_kenny-peagler-live-performance580815310.jpg
END:VEVENT
END:VCALENDAR