BEGIN:VCALENDAR
VERSION:2.0
PRODID:-//Fly Pittsburgh - ECPv6.15.20//NONSGML v1.0//EN
CALSCALE:GREGORIAN
METHOD:PUBLISH
X-WR-CALNAME:Fly Pittsburgh
X-ORIGINAL-URL:https://flypittsburgh.com
X-WR-CALDESC:Events for Fly Pittsburgh
REFRESH-INTERVAL;VALUE=DURATION:PT1H
X-Robots-Tag:noindex
X-PUBLISHED-TTL:PT1H
BEGIN:VTIMEZONE
TZID:America/New_York
BEGIN:DAYLIGHT
TZOFFSETFROM:-0500
TZOFFSETTO:-0400
TZNAME:EDT
DTSTART:20250309T070000
END:DAYLIGHT
BEGIN:STANDARD
TZOFFSETFROM:-0400
TZOFFSETTO:-0500
TZNAME:EST
DTSTART:20251102T060000
END:STANDARD
BEGIN:DAYLIGHT
TZOFFSETFROM:-0500
TZOFFSETTO:-0400
TZNAME:EDT
DTSTART:20260308T070000
END:DAYLIGHT
BEGIN:STANDARD
TZOFFSETFROM:-0400
TZOFFSETTO:-0500
TZNAME:EST
DTSTART:20261101T060000
END:STANDARD
BEGIN:DAYLIGHT
TZOFFSETFROM:-0500
TZOFFSETTO:-0400
TZNAME:EDT
DTSTART:20270314T070000
END:DAYLIGHT
BEGIN:STANDARD
TZOFFSETFROM:-0400
TZOFFSETTO:-0500
TZNAME:EST
DTSTART:20271107T060000
END:STANDARD
END:VTIMEZONE
BEGIN:VEVENT
DTSTART;TZID=America/New_York:20260226T100000
DTEND;TZID=America/New_York:20260226T120000
DTSTAMP:20260424T054955
CREATED:20260108T183254Z
LAST-MODIFIED:20260108T183803Z
UID:108648-1772100000-1772107200@flypittsburgh.com
SUMMARY:Ralph Diekemper
DESCRIPTION:Ralph Diekemper\, is a Pianist-Composer-Producer-Performer\, and has been a performing artist with PIT Arts since 2022. His performance consists of his own compositions\, along with interpretations of classical\, modern jazz and contemporary music. His original music has received airplay in a wide variety of media\, including NPR and PBS stations\, The Weather Channel\, video\, trailers\, short film. commissioned work\, and more.
URL:https://flypittsburgh.com/event/ralph-diekemper-piano-4/
LOCATION:PIT Piano
CATEGORIES:Music,Performance
ATTACH;FMTTYPE=image/jpeg:https://flypittsburgh.com/wp-content/uploads/2023/05/ralph-diekemper_52842608051_o-e1684951576401.jpg
END:VEVENT
BEGIN:VEVENT
DTSTART;TZID=America/New_York:20260226T150000
DTEND;TZID=America/New_York:20260226T170000
DTSTAMP:20260424T054955
CREATED:20260225T155026Z
LAST-MODIFIED:20260225T155052Z
UID:109700-1772118000-1772125200@flypittsburgh.com
SUMMARY:Zemaria Siqueira
DESCRIPTION:José Maria Siqueira Da Silva\, artistic name Zemaria Siqueira\, Brazilian\, musician\, composer\, instrumentalist; with more than 70 original songs and with partners; some recorded on CDs available on YouTube\, Apples and Spotify.
URL:https://flypittsburgh.com/event/zemaria-siqueira-3/
LOCATION:PIT Stage
CATEGORIES:Music,Performance
ATTACH;FMTTYPE=image/jpeg:https://flypittsburgh.com/wp-content/uploads/2026/02/PIT_PHO_zemaria-siqueira_55049628556_o-4.jpg
END:VEVENT
END:VCALENDAR