BEGIN:VCALENDAR
VERSION:2.0
PRODID:-//Fly Pittsburgh - ECPv6.15.20//NONSGML v1.0//EN
CALSCALE:GREGORIAN
METHOD:PUBLISH
X-WR-CALNAME:Fly Pittsburgh
X-ORIGINAL-URL:https://flypittsburgh.com
X-WR-CALDESC:Events for Fly Pittsburgh
REFRESH-INTERVAL;VALUE=DURATION:PT1H
X-Robots-Tag:noindex
X-PUBLISHED-TTL:PT1H
BEGIN:VTIMEZONE
TZID:America/New_York
BEGIN:DAYLIGHT
TZOFFSETFROM:-0500
TZOFFSETTO:-0400
TZNAME:EDT
DTSTART:20250309T070000
END:DAYLIGHT
BEGIN:STANDARD
TZOFFSETFROM:-0400
TZOFFSETTO:-0500
TZNAME:EST
DTSTART:20251102T060000
END:STANDARD
BEGIN:DAYLIGHT
TZOFFSETFROM:-0500
TZOFFSETTO:-0400
TZNAME:EDT
DTSTART:20260308T070000
END:DAYLIGHT
BEGIN:STANDARD
TZOFFSETFROM:-0400
TZOFFSETTO:-0500
TZNAME:EST
DTSTART:20261101T060000
END:STANDARD
BEGIN:DAYLIGHT
TZOFFSETFROM:-0500
TZOFFSETTO:-0400
TZNAME:EDT
DTSTART:20270314T070000
END:DAYLIGHT
BEGIN:STANDARD
TZOFFSETFROM:-0400
TZOFFSETTO:-0500
TZNAME:EST
DTSTART:20271107T060000
END:STANDARD
END:VTIMEZONE
BEGIN:VEVENT
DTSTART;TZID=America/New_York:20260312T100000
DTEND;TZID=America/New_York:20260312T100000
DTSTAMP:20260421T050421
CREATED:20260105T173320Z
LAST-MODIFIED:20260202T170918Z
UID:108526-1773309600-1773309600@flypittsburgh.com
SUMMARY:Emmanuel Berrido
DESCRIPTION:Emmanuel Berrido is a Dominican-American composer and pianist with a passion for telling stories through sound\, and have composed and performed music for the concert hall\, the radio\, or even the dance floor.
URL:https://flypittsburgh.com/event/emmanuel-berrido-piano-5/
LOCATION:PIT Piano
CATEGORIES:Music,Performance
ATTACH;FMTTYPE=image/jpeg:https://flypittsburgh.com/wp-content/uploads/2026/01/PIT-PHO_emmanuel-berrido_2025_5-scaled.jpg
END:VEVENT
BEGIN:VEVENT
DTSTART;TZID=America/New_York:20260312T150000
DTEND;TZID=America/New_York:20260312T170000
DTSTAMP:20260421T050421
CREATED:20260108T180018Z
LAST-MODIFIED:20260225T170017Z
UID:108623-1773327600-1773334800@flypittsburgh.com
SUMMARY:2020k - Celebrating Brian Eno’s seminal work\, “Music for Airports”
DESCRIPTION:PIT Music for Airports is an annual celebration of ambient music and emotional atmosphere in travel\, featuring Pittsburgh-based artists to reinterpret Brian Eno’s seminal work\, Music for Airports\, and transform the airport into a space of calm\, creativity\, and serenity. In March 2026\, travelers and staff at PIT will again experience ambient music from March 9th – March 12th. \n“The sonic exploration contained in Brian Eno’s Music For Airports is one of the most unique pieces of sound design in that it encapsulates every space it’s played in. As a seminal piece of music\, it remains timeless and relevant and was a gateway for me into adjacent ambient heroes like Aphex Twin and Hiroshi Yoshimura.” \n2020k is a Queer Pop and Experimental Electronic project solely headed by artist RJ Kozain\, who was raised and currently resides in the Pittsburgh\, PA area. 2016’s “Burst Mode” is the debut album from 2020k and was almost exclusively written\, produced\, engineered\, and released (via a self-started independent label imprint\, 2020k LLC) by Kozain himself and was re-released in a digital deluxe format on Bandcamp in December 2019. The record addresses various subjects with its music and visual presentations on how humanity interacts with technology in the 21st century\, as well as explores themes of anxiety\, love\, politics\, queer art\, and sexuality. “Burst Mode (Digital Deluxe)” comes after a long recovery with post-concussion syndrome that came on a week before the original release of the record and lasted a year and a half.
URL:https://flypittsburgh.com/event/2020k/
LOCATION:PIT Stage
CATEGORIES:Music,Performance
ATTACH;FMTTYPE=image/jpeg:https://flypittsburgh.com/wp-content/uploads/2023/10/2020K_BurstMode_2-scaled.jpg
END:VEVENT
END:VCALENDAR