BEGIN:VCALENDAR
VERSION:2.0
PRODID:-//Fly Pittsburgh - ECPv6.15.20//NONSGML v1.0//EN
CALSCALE:GREGORIAN
METHOD:PUBLISH
X-ORIGINAL-URL:https://flypittsburgh.com
X-WR-CALDESC:Events for Fly Pittsburgh
REFRESH-INTERVAL;VALUE=DURATION:PT1H
X-Robots-Tag:noindex
X-PUBLISHED-TTL:PT1H
BEGIN:VTIMEZONE
TZID:America/New_York
BEGIN:DAYLIGHT
TZOFFSETFROM:-0500
TZOFFSETTO:-0400
TZNAME:EDT
DTSTART:20250309T070000
END:DAYLIGHT
BEGIN:STANDARD
TZOFFSETFROM:-0400
TZOFFSETTO:-0500
TZNAME:EST
DTSTART:20251102T060000
END:STANDARD
BEGIN:DAYLIGHT
TZOFFSETFROM:-0500
TZOFFSETTO:-0400
TZNAME:EDT
DTSTART:20260308T070000
END:DAYLIGHT
BEGIN:STANDARD
TZOFFSETFROM:-0400
TZOFFSETTO:-0500
TZNAME:EST
DTSTART:20261101T060000
END:STANDARD
BEGIN:DAYLIGHT
TZOFFSETFROM:-0500
TZOFFSETTO:-0400
TZNAME:EDT
DTSTART:20270314T070000
END:DAYLIGHT
BEGIN:STANDARD
TZOFFSETFROM:-0400
TZOFFSETTO:-0500
TZNAME:EST
DTSTART:20271107T060000
END:STANDARD
END:VTIMEZONE
BEGIN:VEVENT
DTSTART;TZID=America/New_York:20260514T100000
DTEND;TZID=America/New_York:20260514T120000
DTSTAMP:20260420T110105
CREATED:20260402T195814Z
LAST-MODIFIED:20260402T195814Z
UID:110762-1778752800-1778760000@flypittsburgh.com
SUMMARY:Emmanuel Berrido
DESCRIPTION:Emmanuel Berrido is a Dominican-American composer and pianist with a passion for telling stories through sound\, and have composed and performed music for the concert hall\, the radio\, or even the dance floor.
URL:https://flypittsburgh.com/event/emmanuel-berrido/
LOCATION:PIT Piano
CATEGORIES:Music,Performance
ATTACH;FMTTYPE=image/jpeg:https://flypittsburgh.com/wp-content/uploads/2026/01/PIT-PHO_emmanuel-berrido_2025_5-scaled.jpg
END:VEVENT
BEGIN:VEVENT
DTSTART;TZID=America/New_York:20260514T150000
DTEND;TZID=America/New_York:20260514T170000
DTSTAMP:20260420T110105
CREATED:20260402T192504Z
LAST-MODIFIED:20260402T192504Z
UID:110729-1778770800-1778778000@flypittsburgh.com
SUMMARY:The Krunk Movement
DESCRIPTION:The Krunk Movement is a student led initiative that promotes positive messages to youth through the culture of hip hop.
URL:https://flypittsburgh.com/event/the-krunk-movement/
LOCATION:PIT Stage
CATEGORIES:Music,Performance,Theatre Arts
ATTACH;FMTTYPE=image/jpeg:https://flypittsburgh.com/wp-content/uploads/2026/04/KRUNK-movement_2024.jpg
END:VEVENT
END:VCALENDAR