BEGIN:VCALENDAR
VERSION:2.0
PRODID:-//Fly Pittsburgh - ECPv6.15.20//NONSGML v1.0//EN
CALSCALE:GREGORIAN
METHOD:PUBLISH
X-WR-CALNAME:Fly Pittsburgh
X-ORIGINAL-URL:https://flypittsburgh.com
X-WR-CALDESC:Events for Fly Pittsburgh
REFRESH-INTERVAL;VALUE=DURATION:PT1H
X-Robots-Tag:noindex
X-PUBLISHED-TTL:PT1H
BEGIN:VTIMEZONE
TZID:America/New_York
BEGIN:DAYLIGHT
TZOFFSETFROM:-0500
TZOFFSETTO:-0400
TZNAME:EDT
DTSTART:20250309T070000
END:DAYLIGHT
BEGIN:STANDARD
TZOFFSETFROM:-0400
TZOFFSETTO:-0500
TZNAME:EST
DTSTART:20251102T060000
END:STANDARD
BEGIN:DAYLIGHT
TZOFFSETFROM:-0500
TZOFFSETTO:-0400
TZNAME:EDT
DTSTART:20260308T070000
END:DAYLIGHT
BEGIN:STANDARD
TZOFFSETFROM:-0400
TZOFFSETTO:-0500
TZNAME:EST
DTSTART:20261101T060000
END:STANDARD
BEGIN:DAYLIGHT
TZOFFSETFROM:-0500
TZOFFSETTO:-0400
TZNAME:EDT
DTSTART:20270314T070000
END:DAYLIGHT
BEGIN:STANDARD
TZOFFSETFROM:-0400
TZOFFSETTO:-0500
TZNAME:EST
DTSTART:20271107T060000
END:STANDARD
END:VTIMEZONE
BEGIN:VEVENT
DTSTART;TZID=America/New_York:20260518T100000
DTEND;TZID=America/New_York:20260518T120000
DTSTAMP:20260424T072046
CREATED:20260402T201442Z
LAST-MODIFIED:20260402T201442Z
UID:110764-1779098400-1779105600@flypittsburgh.com
SUMMARY:Ralph Diekemper
DESCRIPTION:Ralph Diekemper\, is a Pianist-Composer-Producer-Performer\, and has been a performing artist with PIT Arts since 2022. His performance consists of his own compositions\, along with interpretations of classical\, modern jazz and contemporary music. His original music has received airplay in a wide variety of media\, including NPR and PBS stations\, The Weather Channel\, video\, trailers\, short film. commissioned work\, and more.
URL:https://flypittsburgh.com/event/ralph-diekemper-2/
LOCATION:PIT Piano
CATEGORIES:Music,Performance
ATTACH;FMTTYPE=image/jpeg:https://flypittsburgh.com/wp-content/uploads/2025/04/ACAA_Ralph-.jpg
END:VEVENT
BEGIN:VEVENT
DTSTART;TZID=America/New_York:20260518T150000
DTEND;TZID=America/New_York:20260518T170000
DTSTAMP:20260424T072046
CREATED:20260402T192753Z
LAST-MODIFIED:20260415T183421Z
UID:110732-1779116400-1779123600@flypittsburgh.com
SUMMARY:Augustine
DESCRIPTION:Augustine is a folk singer/songwriter focused on telling relatable\, heartfelt stories through songs with catchy melodies. His musical influences include Jim Croce\, James Taylor\, Bob Dylan\, George Harrison\, and Tyler Childers\, amongst others. \n 
URL:https://flypittsburgh.com/event/augustine/
LOCATION:PIT Stage
CATEGORIES:Music,Performance
ATTACH;FMTTYPE=image/png:https://flypittsburgh.com/wp-content/uploads/2026/04/Augustine_Album-Cover-.png
END:VEVENT
END:VCALENDAR