BEGIN:VCALENDAR
VERSION:2.0
PRODID:-//Fly Pittsburgh - ECPv6.15.20//NONSGML v1.0//EN
CALSCALE:GREGORIAN
METHOD:PUBLISH
X-WR-CALNAME:Fly Pittsburgh
X-ORIGINAL-URL:https://flypittsburgh.com
X-WR-CALDESC:Events for Fly Pittsburgh
REFRESH-INTERVAL;VALUE=DURATION:PT1H
X-Robots-Tag:noindex
X-PUBLISHED-TTL:PT1H
BEGIN:VTIMEZONE
TZID:America/New_York
BEGIN:DAYLIGHT
TZOFFSETFROM:-0500
TZOFFSETTO:-0400
TZNAME:EDT
DTSTART:20250309T070000
END:DAYLIGHT
BEGIN:STANDARD
TZOFFSETFROM:-0400
TZOFFSETTO:-0500
TZNAME:EST
DTSTART:20251102T060000
END:STANDARD
BEGIN:DAYLIGHT
TZOFFSETFROM:-0500
TZOFFSETTO:-0400
TZNAME:EDT
DTSTART:20260308T070000
END:DAYLIGHT
BEGIN:STANDARD
TZOFFSETFROM:-0400
TZOFFSETTO:-0500
TZNAME:EST
DTSTART:20261101T060000
END:STANDARD
BEGIN:DAYLIGHT
TZOFFSETFROM:-0500
TZOFFSETTO:-0400
TZNAME:EDT
DTSTART:20270314T070000
END:DAYLIGHT
BEGIN:STANDARD
TZOFFSETFROM:-0400
TZOFFSETTO:-0500
TZNAME:EST
DTSTART:20271107T060000
END:STANDARD
END:VTIMEZONE
BEGIN:VEVENT
DTSTART;TZID=America/New_York:20260430T150000
DTEND;TZID=America/New_York:20260430T170000
DTSTAMP:20260421T090915
CREATED:20260402T185019Z
LAST-MODIFIED:20260402T185019Z
UID:110717-1777561200-1777568400@flypittsburgh.com
SUMMARY:Tierney Joyce
DESCRIPTION:Tierney Violet Joyce has been performing since she first stepped onstage at seven years old and instantly felt at home. She is now a theater major at Point Park University\, where she continues to grow as both an artist and a storyteller. Over the years\, she has had the honor of performing the National Anthem at the Little League World Series and appearing at iconic venues such as the Apollo\, 54 Below\, and Carnegie Hall. She also had the unforgettable opportunity to perform in Times Square with the Broadway Green Alliance. Each experience has shaped her artistic journey and strengthened her commitment to a life in the performing arts.
URL:https://flypittsburgh.com/event/tierney-joyce/
LOCATION:PIT Stage
CATEGORIES:Music,Performance,Theatre Arts
ATTACH;FMTTYPE=image/jpeg:https://flypittsburgh.com/wp-content/uploads/2026/04/2-Tierney-2024-2-scaled.jpg
END:VEVENT
END:VCALENDAR