BEGIN:VCALENDAR
VERSION:2.0
PRODID:-//Fly Pittsburgh - ECPv6.15.20//NONSGML v1.0//EN
CALSCALE:GREGORIAN
METHOD:PUBLISH
X-ORIGINAL-URL:https://flypittsburgh.com
X-WR-CALDESC:Events for Fly Pittsburgh
REFRESH-INTERVAL;VALUE=DURATION:PT1H
X-Robots-Tag:noindex
X-PUBLISHED-TTL:PT1H
BEGIN:VTIMEZONE
TZID:America/New_York
BEGIN:DAYLIGHT
TZOFFSETFROM:-0500
TZOFFSETTO:-0400
TZNAME:EDT
DTSTART:20240310T070000
END:DAYLIGHT
BEGIN:STANDARD
TZOFFSETFROM:-0400
TZOFFSETTO:-0500
TZNAME:EST
DTSTART:20241103T060000
END:STANDARD
BEGIN:DAYLIGHT
TZOFFSETFROM:-0500
TZOFFSETTO:-0400
TZNAME:EDT
DTSTART:20250309T070000
END:DAYLIGHT
BEGIN:STANDARD
TZOFFSETFROM:-0400
TZOFFSETTO:-0500
TZNAME:EST
DTSTART:20251102T060000
END:STANDARD
BEGIN:DAYLIGHT
TZOFFSETFROM:-0500
TZOFFSETTO:-0400
TZNAME:EDT
DTSTART:20260308T070000
END:DAYLIGHT
BEGIN:STANDARD
TZOFFSETFROM:-0400
TZOFFSETTO:-0500
TZNAME:EST
DTSTART:20261101T060000
END:STANDARD
END:VTIMEZONE
BEGIN:VEVENT
DTSTART;TZID=America/New_York:20251113T150000
DTEND;TZID=America/New_York:20251113T170000
DTSTAMP:20260421T061623
CREATED:20250918T152307Z
LAST-MODIFIED:20251015T173848Z
UID:105881-1763046000-1763053200@flypittsburgh.com
SUMMARY:Jass
DESCRIPTION:Multi-instrumentalist\, vocalist\, and poet Jass got her start singing in her church choir and playing in a school band. Now\, she writes and produces her own music\, performing either as a solo act or with a supporting band. Her music is a gentle\, foggy fusion of R&B beats and lo-fi pop melodies with a soul-inflected vocal performance. She also adds elements of Hip-Hop and spoken word in a unique way. A rising voice to represent the Kansas City music scene\, Jass’s ability to shift genres while retaining her own artistic voice is a way of both honoring and building upon the music traditions of Kansas City.
URL:https://flypittsburgh.com/event/jass/
LOCATION:PIT Stage
CATEGORIES:Music,Performance
ATTACH;FMTTYPE=image/jpeg:https://flypittsburgh.com/wp-content/uploads/2025/09/Jass_photo_1.jpg
END:VEVENT
BEGIN:VEVENT
DTSTART;TZID=America/New_York:20251124T150000
DTEND;TZID=America/New_York:20251229T170000
DTSTAMP:20260421T061623
CREATED:20250623T191943Z
LAST-MODIFIED:20251117T175005Z
UID:104785-1763996400-1767027600@flypittsburgh.com
SUMMARY:Nairobi
DESCRIPTION:Nairobi is a singer-songwriter\, rapper\, actress\, poet\, theatrical and creative director\, teaching artist\, visual artist\, entrepreneur\, and activist from Pittsburgh\, Pennsylvania. She is a member of 1Hood Media\, where she is blessed to use her art and empower others to use their voices\, as she strongly represents her brand of “Individuality\, Divinity\, and Purpose.”
URL:https://flypittsburgh.com/event/nairobi/
LOCATION:PIT Stage
CATEGORIES:Music,Performance
ATTACH;FMTTYPE=image/jpeg:https://flypittsburgh.com/wp-content/uploads/2024/01/ACAA_Nairobi_2023.jpg
END:VEVENT
END:VCALENDAR